BEGIN:VCALENDAR
VERSION:2.0
PRODID:-//eventon.com NONSGML v1.0//EN
CALSCALE:GREGORIAN
METHOD:PUBLISH
BEGIN:VEVENT
UID:69e7a816b9430
DTSTAMP:20260421T163846Z
DTSTART:20260127T160000Z
DTEND:20260127T215000Z
LOCATION:
SUMMARY:Mansoura Folk Arts Troupe at the Mansoura Culture Palace
DESCRIPTION:The Mansoura Culture Palace\,  affiliated with the General Auth
 ority for Culture Palaces\,  is organizing an artistic performance by the M
 ansoura Folk Arts Troupe\,  during which a series of segments inspired by f
 olk heritage will be presented\,  as part of preserving artistic heritage a
 nd presenting it to the public in a[..]\nhttps://babmsr.com/en/events/manso
 ura-folk-arts-troupe-at-the-mansoura-culture-palace/
URL:https://babmsr.com/en/events/mansoura-folk-arts-troupe-at-the-mansoura-culture-palace/
END:VEVENT
END:VCALENDAR