BEGIN:VCALENDAR
VERSION:2.0
PRODID:-//eventon.com NONSGML v1.0//EN
CALSCALE:GREGORIAN
METHOD:PUBLISH
BEGIN:VEVENT
UID:69ecf4949358a
DTSTAMP:20260425T170628Z
DTSTART:20260118T170000Z
DTEND:20260118T215000Z
LOCATION:
SUMMARY:“A Journey Into Memory” Exhibition by Artist Zakarya Ahmed
DESCRIPTION:Today marks the opening of “A Journey Into Memory\, ” an ex
 hibition by artist Zakaria Ahmed at the Dai zamalek Gallery\,  which presen
 ts an artistic experience inspired by memory\,  nostalgia\,  and time\,  th
 rough works that reflect a creative journey rich in insights and experience
 s. The exhibition offers visitors the opportunity to[..]\nhttps://babmsr.co
 m/en/events/a-journey-into-memory-exhibition-by-artist-zakarya-ahmed/
URL:https://babmsr.com/en/events/a-journey-into-memory-exhibition-by-artist-zakarya-ahmed/
END:VEVENT
END:VCALENDAR