BEGIN:VCALENDAR
VERSION:2.0
PRODID:-//eventon.com NONSGML v1.0//EN
CALSCALE:GREGORIAN
METHOD:PUBLISH
BEGIN:VEVENT
UID:69e7a4f2f07aa
DTSTAMP:20260421T162522Z
DTSTART:20251209T170000Z
DTEND:20251209T215000Z
LOCATION:
SUMMARY:Seminar on caring for Egyptian families through Al- Shatby culture
DESCRIPTION:The Shatby Cultural Palace in Alexandria is organizing a semina
 r entitled “The Effective Role of the National Council for Women in Carin
 g for the Egyptian Family\, ” presented by Dr. Ibrahim Abdullah\,  in the
  presence of Major General Hazem Badr and Dr. Magda El-Shazly\,  rapporteur
  of the Alexandria branch of the[..]\nhttps://babmsr.com/en/events/seminar-
 on-caring-for-egyptian-families-through-al-shatby-culture/
URL:https://babmsr.com/en/events/seminar-on-caring-for-egyptian-families-through-al-shatby-culture/
END:VEVENT
END:VCALENDAR